BEGIN:VCALENDAR
VERSION:2.0
PRODID:-//OIT Cybersecurity - ECPv5.9.0//NONSGML v1.0//EN
CALSCALE:GREGORIAN
METHOD:PUBLISH
X-WR-CALNAME:OIT Cybersecurity
X-ORIGINAL-URL:https://cybersecurity.alabama.gov
X-WR-CALDESC:Events for OIT Cybersecurity
BEGIN:VTIMEZONE
TZID:UTC
BEGIN:STANDARD
TZOFFSETFROM:+0000
TZOFFSETTO:+0000
TZNAME:UTC
DTSTART:20190101T000000
END:STANDARD
END:VTIMEZONE
BEGIN:VEVENT
DTSTART;TZID=UTC:20190709T080000
DTEND;TZID=UTC:20190709T170000
DTSTAMP:20210922T125401
CREATED:20191001T131222Z
LAST-MODIFIED:20191001T132431Z
UID:6644-1562659200-1562691600@cybersecurity.alabama.gov
SUMMARY:AL Digital Government Summit
DESCRIPTION:Government Technology’s passion is helping spread best practices and spurring innovation in the public sector. The Alabama Digital Government Summit is designed to do just that. The summit has an advisory board that gathers public sector and private sector leaders to create an agenda that is relevant and actionable to the state and local government organizations attending the summit. Participants can take advantage of inspirational keynotes\, leadership discussions\, networking breaks\, and timely topics discussed in the numerous breakout sessions to help advance the goals of their organizations and their own career paths. \nTopics Include: \nSecurity Over the Edge\nData Revolution\nNavigating the Cloud\nCool Collaboration Tools\nThe Agile Transformation\nHow Do We Determine What Citizens Really Want?\nData Center Evolution\n5G and the Future of Wireless\nStrategies for a Smart Alabama
URL:https://cybersecurity.alabama.gov/event/al-digital-government-summit/
LOCATION:Renaissance
END:VEVENT
END:VCALENDAR